BEGIN:VCALENDAR
VERSION:2.0
PRODID:-//Squarespace Inc/Squarespace 6//v6//EN
BEGIN:VEVENT
UID:5c6d045d9140b752b968d914@squarespace.com
DTSTAMP:20190228T225521Z
DTSTART:20190514T080000Z
DTEND:20190514T090000Z
SUMMARY:2019 Term 2- P&amp\;C meeting
END:VEVENT
END:VCALENDAR
