BEGIN:VCALENDAR
VERSION:2.0
PRODID:-//Squarespace Inc/Squarespace 6//v6//EN
BEGIN:VEVENT
UID:5c6cca2115fcc073a6eb3a05@squarespace.com
DTSTAMP:20190220T033252Z
DTSTART:20190312T070000Z
DTEND:20190312T083000Z
SUMMARY:2019 Term 1 - P&amp\;C Annual General Meeting (AGM) and General Mee
 ting (GM)
END:VEVENT
END:VCALENDAR
