BEGIN:VCALENDAR
VERSION:2.0
PRODID:-//Squarespace Inc/Squarespace 6//v6//EN
BEGIN:VEVENT
UID:5c6d0faa9b747a26911d25f5@squarespace.com
DTSTAMP:20190228T225804Z
DTSTART:20190905T230000Z
DTEND:20190905T230000Z
SUMMARY:2019 Term 3 - National Threatened Species Day
END:VEVENT
END:VCALENDAR
