BEGIN:VCALENDAR
VERSION:2.0
PRODID:-//Squarespace Inc/Squarespace 6//v6//EN
BEGIN:VEVENT
UID:5c6d10a1104c7bccf2682aec@squarespace.com
DTSTAMP:20190220T083322Z
DTSTART:20190910T080000Z
DTEND:20190910T090000Z
SUMMARY:2019 Term 3 - P&amp\;C Meeting
END:VEVENT
END:VCALENDAR
