BEGIN:VCALENDAR
VERSION:2.0
PRODID:-//Squarespace Inc/Squarespace 6//v6//EN
BEGIN:VEVENT
UID:5c6d0bd6e5e5f0de351020d4@squarespace.com
DTSTAMP:20190220T081624Z
DTSTART:20190809T090000Z
DTEND:20190809T120000Z
SUMMARY:2019 Term 3 - Trivia Night &amp\; 80's Rewind Disco
END:VEVENT
END:VCALENDAR
