BEGIN:VCALENDAR
VERSION:2.0
PRODID:-//Squarespace Inc/Squarespace 6//v6//EN
BEGIN:VEVENT
UID:5c6d0e6aec212d5610279714@squarespace.com
DTSTAMP:20190220T082803Z
DTSTART:20190829T220000Z
DTEND:20190829T230000Z
SUMMARY:2019 Term 3 - Father’s Day breakfast
END:VEVENT
END:VCALENDAR
