BEGIN:VCALENDAR
VERSION:2.0
PRODID:-//Squarespace Inc/Squarespace 6//v6//EN
BEGIN:VEVENT
UID:5c6d08c7b208fc802a808d0e@squarespace.com
DTSTAMP:20190228T223304Z
DTSTART:20190604T230000Z
DTEND:20190604T230000Z
SUMMARY:2019 Term 2 - World Environment Day
END:VEVENT
END:VCALENDAR
