BEGIN:VCALENDAR
VERSION:2.0
PRODID:-//Squarespace Inc/Squarespace 6//v6//EN
BEGIN:VEVENT
UID:5c6d0aa724a694e2f1d88520@squarespace.com
DTSTAMP:20190220T080953Z
DTSTART:20190611T080000Z
DTEND:20190611T090000Z
SUMMARY:2019 Term 2 - P&amp\;C meeting
END:VEVENT
END:VCALENDAR
