BEGIN:VCALENDAR
VERSION:2.0
PRODID:-//Squarespace Inc/Squarespace 6//v6//EN
BEGIN:VEVENT
UID:5c6d04e5419202bd5164cdbf@squarespace.com
DTSTAMP:20190228T224806Z
DTSTART:20190531T050000Z
DTEND:20190531T050000Z
SUMMARY:2019 Term 2 - Readathon Finishes
END:VEVENT
END:VCALENDAR
