BEGIN:VCALENDAR
VERSION:2.0
PRODID:-//Squarespace Inc/Squarespace 6//v6//EN
BEGIN:VEVENT
UID:5c6d0339e4966be40d41ab45@squarespace.com
DTSTAMP:20190228T222438Z
DTSTART:20190502T230000Z
DTEND:20190503T000000Z
SUMMARY:2019 Term 2 - May the Fourth
END:VEVENT
END:VCALENDAR
