BEGIN:VCALENDAR
VERSION:2.0
PRODID:-//Squarespace Inc/Squarespace 6//v6//EN
BEGIN:VEVENT
UID:5c785cc84e17b66bae139188@squarespace.com
DTSTAMP:20190228T221923Z
DTSTART:20190509T220000Z
DTEND:20190509T230000Z
SUMMARY:2019 Term 2 - Mothers Day Breakfast
END:VEVENT
END:VCALENDAR
