BEGIN:VCALENDAR
VERSION:2.0
PRODID:-//Squarespace Inc/Squarespace 6//v6//EN
BEGIN:VEVENT
UID:5c6ccb73971a187530279bb6@squarespace.com
DTSTAMP:20190228T221713Z
DTSTART:20190405T070000Z
DTEND:20190405T090000Z
SUMMARY:2019 Term 1 - Disco – Neon
END:VEVENT
END:VCALENDAR
