BEGIN:VCALENDAR
VERSION:2.0
PRODID:-//Squarespace Inc/Squarespace 6//v6//EN
BEGIN:VEVENT
UID:5c6ccaccee6eb00c516dbc4e@squarespace.com
DTSTAMP:20190228T224550Z
DTSTART:20190322T213000Z
DTEND:20190323T060000Z
SUMMARY:2019 Term 1 - Fundraiser/state election polling place
END:VEVENT
END:VCALENDAR
