BEGIN:VCALENDAR
VERSION:2.0
PRODID:-//Squarespace Inc/Squarespace 6//v6//EN
BEGIN:VEVENT
UID:5c6cc99315fcc073a6eb3418@squarespace.com
DTSTAMP:20190220T033045Z
DTSTART:20190226T070000Z
DTEND:20190226T080000Z
SUMMARY:2019 Term 1 - P&amp\;C meeting
END:VEVENT
END:VCALENDAR
