BEGIN:VCALENDAR
VERSION:2.0
PRODID:-//Squarespace Inc/Squarespace 6//v6//EN
BEGIN:VEVENT
UID:5c74669c085229aac7a11354@squarespace.com
DTSTAMP:20190225T220635Z
DTSTART:20191210T070000Z
DTEND:20191210T100000Z
SUMMARY:2019 Term 4 - P&amp\;C meeting and 2019 Social
END:VEVENT
END:VCALENDAR
