BEGIN:VCALENDAR
VERSION:2.0
PRODID:-//Squarespace Inc/Squarespace 6//v6//EN
BEGIN:VEVENT
UID:5c746659f4e1fce990b8ff15@squarespace.com
DTSTAMP:20190225T220459Z
DTSTART:20191129T070000Z
DTEND:20191129T090000Z
SUMMARY:2019 Term 4 - Disco
END:VEVENT
END:VCALENDAR
