BEGIN:VCALENDAR
VERSION:2.0
PRODID:-//Squarespace Inc/Squarespace 6//v6//EN
BEGIN:VEVENT
UID:5c6d175d4785d379cefd1260@squarespace.com
DTSTAMP:20190220T090219Z
DTSTART:20191110T220000Z
DTEND:20191114T220000Z
SUMMARY:2019 Term 4 - National Recycling Week
END:VEVENT
END:VCALENDAR
