BEGIN:VCALENDAR
VERSION:2.0
PRODID:-//Squarespace Inc/Squarespace 6//v6//EN
BEGIN:VEVENT
UID:59f13bbae5dd5bbca4c3f3aa@squarespace.com
DTSTAMP:20180518T003648Z
DTSTART:20180830T220000Z
DTEND:20180830T230000Z
SUMMARY:2018 Term 3 - Father’s Day breakfast
END:VEVENT
END:VCALENDAR
