BEGIN:VCALENDAR
VERSION:2.0
PRODID:-//Squarespace Inc/Squarespace 6//v6//EN
BEGIN:VEVENT
UID:59f13914be42d605ddbf3dba@squarespace.com
DTSTAMP:20171026T013803Z
DTSTART:20180524T230000Z
DTEND:20180524T230000Z
SUMMARY:2018 Term 2 - Readathon Finishes
END:VEVENT
END:VCALENDAR
