BEGIN:VCALENDAR
VERSION:2.0
PRODID:-//Squarespace Inc/Squarespace 6//v6//EN
BEGIN:VEVENT
UID:59f13695edaed8d2d2528e3b@squarespace.com
DTSTAMP:20180418T013744Z
DTSTART:20180510T220000Z
DTEND:20180510T230000Z
SUMMARY:2018 Term 2 - Mother’s Day Breakfast
END:VEVENT
END:VCALENDAR
