BEGIN:VCALENDAR
VERSION:2.0
PRODID:-//Squarespace Inc/Squarespace 6//v6//EN
BEGIN:VEVENT
UID:59f13307f9a61ef6a79a63a0@squarespace.com
DTSTAMP:20171026T011419Z
DTSTART:20180430T230000Z
DTEND:20180524T230000Z
SUMMARY:2018 Term 2 - Readathon starts
END:VEVENT
END:VCALENDAR
