BEGIN:VCALENDAR
VERSION:2.0
PRODID:-//Squarespace Inc/Squarespace 6//v6//EN
BEGIN:VEVENT
UID:59f12e349f07f53954c36f65@squarespace.com
DTSTAMP:20180306T201322Z
DTSTART:20180406T080000Z
DTEND:20180406T090000Z
SUMMARY:2018 Term 1 - Parents and staff social 
END:VEVENT
END:VCALENDAR
