BEGIN:VCALENDAR
VERSION:2.0
PRODID:-//Squarespace Inc/Squarespace 6//v6//EN
BEGIN:VEVENT
UID:59f12926bff200100a5e968a@squarespace.com
DTSTAMP:20180306T201902Z
DTSTART:20180313T070000Z
DTEND:20180313T074000Z
SUMMARY:2018 Term 1 - P&C Annual General Meeting (AGM)
END:VEVENT
END:VCALENDAR
