BEGIN:VCALENDAR
VERSION:2.0
PRODID:-//Squarespace Inc/Squarespace 6//v6//EN
BEGIN:VEVENT
UID:5a9ef73553450a57bf60dc8a@squarespace.com
DTSTAMP:20180306T201822Z
DTSTART:20180313T074000Z
DTEND:20180313T080000Z
SUMMARY:2018 Term 1 - P&C General Meeting 
END:VEVENT
END:VCALENDAR
