BEGIN:VCALENDAR
VERSION:2.0
PRODID:-//Squarespace Inc/Squarespace 6//v6//EN
BEGIN:VEVENT
UID:59f1283db1ffb63d10c6aeb7@squarespace.com
DTSTAMP:20171026T014336Z
DTSTART:20180213T070000Z
DTEND:20180213T083000Z
SUMMARY:2018 Term 1 - P&C Meeting
END:VEVENT
END:VCALENDAR
