BEGIN:VCALENDAR
VERSION:2.0
PRODID:-//Squarespace Inc/Squarespace 6//v6//EN
BEGIN:VEVENT
UID:5afe0459758d466fdfc7de52@squarespace.com
DTSTAMP:20181016T230141Z
DTSTART:20181024T210000Z
DTEND:20181024T220000Z
SUMMARY:2018 Teacher Appreciation Day
END:VEVENT
END:VCALENDAR
