BEGIN:VCALENDAR
VERSION:2.0
PRODID:-//Squarespace Inc/Squarespace 6//v6//EN
BEGIN:VEVENT
UID:5ba84421652deafcd6029c01@squarespace.com
DTSTAMP:20180924T015820Z
DTSTART:20181019T080000Z
DTEND:20181019T113000Z
SUMMARY:P&amp\;C Trivia Night
END:VEVENT
END:VCALENDAR
