BEGIN:VCALENDAR
VERSION:2.0
PRODID:-//Squarespace Inc/Squarespace 6//v6//EN
BEGIN:VEVENT
UID:58a143b9be6594dd28baf476@squarespace.com
DTSTAMP:20170828T091849Z
DTSTART:20170831T220000Z
DTEND:20170831T230000Z
SUMMARY:Term 3 - Fathers Day breakfast
END:VEVENT
END:VCALENDAR
