BEGIN:VCALENDAR
VERSION:2.0
PRODID:-//Squarespace Inc/Squarespace 6//v6//EN
BEGIN:VEVENT
UID:58a13f41db29d6b1600abb23@squarespace.com
DTSTAMP:20170213T050854Z
DTSTART:20170509T080000Z
DTEND:20170509T093000Z
SUMMARY:Term 2 - P & C Meeting (May 2017)
END:VEVENT
END:VCALENDAR
