BEGIN:VCALENDAR
VERSION:2.0
PRODID:-//Squarespace Inc/Squarespace 6//v6//EN
BEGIN:VEVENT
UID:58a140722e69cf7248ecfa34@squarespace.com
DTSTAMP:20170213T051340Z
DTSTART:20170525T230000Z
DTEND:20170526T000000Z
SUMMARY:Term 2 - Readathon Finishes
END:VEVENT
END:VCALENDAR
