BEGIN:VCALENDAR
VERSION:2.0
PRODID:-//Squarespace Inc/Squarespace 6//v6//EN
BEGIN:VEVENT
UID:58a13e70725e25197ec795d9@squarespace.com
DTSTAMP:20170213T050524Z
DTSTART:20170331T070000Z
DTEND:20170331T090000Z
SUMMARY:Term 1 - Parents and staff social
END:VEVENT
END:VCALENDAR
