BEGIN:VCALENDAR
VERSION:2.0
PRODID:-//Squarespace Inc/Squarespace 6//v6//EN
BEGIN:VEVENT
UID:58a13dab59cc6819caa25f0f@squarespace.com
DTSTAMP:20170213T050418Z
DTSTART:20170324T070000Z
DTEND:20170324T090000Z
SUMMARY:Term 1 - Disco
END:VEVENT
END:VCALENDAR
