BEGIN:VCALENDAR
VERSION:2.0
PRODID:-//Squarespace Inc/Squarespace 6//v6//EN
BEGIN:VEVENT
UID:58a13d3e15d5dbc3ddb8ed7d@squarespace.com
DTSTAMP:20170304T092819Z
DTSTART:20170321T070000Z
DTEND:20170321T083000Z
SUMMARY:Term 1 - AGM and P&C Meeting March 2017
END:VEVENT
END:VCALENDAR
