BEGIN:VCALENDAR
VERSION:2.0
PRODID:-//Squarespace Inc/Squarespace 6//v6//EN
BEGIN:VEVENT
UID:58ba8744cd0f68842cba1b5e@squarespace.com
DTSTAMP:20171026T012229Z
DTSTART:20171124T070000Z
DTEND:20171124T090000Z
SUMMARY:2017 Term 4 - Final Disco
END:VEVENT
END:VCALENDAR
