BEGIN:VCALENDAR
VERSION:2.0
PRODID:-//Squarespace Inc/Squarespace 6//v6//EN
BEGIN:VEVENT
UID:56fceb4186db4370b32d16b9@squarespace.com
DTSTAMP:20161115T062842Z
DTSTART:20161213T073000Z
DTEND:20161213T103000Z
SUMMARY:P & C Meeting & End of Year Dinner (December)
END:VEVENT
END:VCALENDAR
