BEGIN:VCALENDAR
VERSION:2.0
PRODID:-//Squarespace Inc/Squarespace 6//v6//EN
BEGIN:VEVENT
UID:56fcf308b6aa60091f560da3@squarespace.com
DTSTAMP:20161115T063452Z
DTSTART:20161125T070000Z
DTEND:20161125T090000Z
SUMMARY:Disco - Hollywood Red Carpet
END:VEVENT
END:VCALENDAR
